BEGIN:VCALENDAR
VERSION:2.0
PRODID:-//https://cookcouture.ch///NONSGML kigkonsult.se iCalcreator 2.10.15//
METHOD:PUBLISH
BEGIN:VEVENT
UID:20260421T112712CEST-7563u34OVl@https://cookcouture.ch/
DTSTAMP:20260421T092712Z
DESCRIPTION:Möchtest du eigene Garnituren erschaffen\, um deinen Tellern de
 n letzten Schliff zu geben?Ich\, Patricia\, zeige dir gerne wie das geht: 
 von Hippen\, Chips zu Gels und Crumbles sowie Tipps und Tricks ist alles d
 abei.Dein persönliches Rezeptheft und deine erstellten Garnituren nimmst d
 u natürlich mit nach Hause\, damit es auch in Zukunft gelingt. Ich freu mi
 ch auf dich!Deine Patricia PS: ein Glas Wein oder Bier und Wasser gibts au
 ch auch...\nCHF 111.- / PERSON\nALL-IN-PACKAGE\nDauer: 18:00 Uhr – 22:30 U
 hrAnzahl Plätze: Max. 8 Personen https://cookcouture.ch/index.php/kochkurs
 e/Ereignis/17-garnituren-leicht-gemacht-kurs-7-1-25
DTSTART:20250107T170000Z
DTEND:20250107T213000Z
LOCATION:Studio (Viaduktstrasse 89\, Bogen B\, CH-8005 Zürich-Hardbrücke)
SUMMARY:Garnituren leicht gemacht/Kurs (7.1.25)
URL:https://cookcouture.ch/index.php/kochkurse/Ereignis/17-garnituren-leich
 t-gemacht-kurs-7-1-25
END:VEVENT
END:VCALENDAR
