BEGIN:VCALENDAR
VERSION:2.0
PRODID:-//https://cookcouture.ch///NONSGML kigkonsult.se iCalcreator 2.10.15//
METHOD:PUBLISH
BEGIN:VEVENT
UID:20260421T131417CEST-05470VjWUH@https://cookcouture.ch/
DTSTAMP:20260421T111417Z
DESCRIPTION:Möchtest du eigene Garnituren erschaffen\, um deinen Tellern de
 n letzten Schliff zu geben?Ich\, Patricia\, zeige dir gerne wie das geht: 
 von Hippen\, Chips zu Gels und Crumbles sowie Tipps und Tricks ist alles d
 abei.Dein persönliches Rezeptheft und deine erstellten Garnituren nimmst d
 u natürlich mit nach Hause\, damit es auch in Zukunft gelingt. Ich freu mi
 ch auf dich!Deine Patricia PS: ein Glas Wein oder Bier und Wasser gibts au
 ch auch...\nCHF 111.- / PERSON\nALL-IN-PACKAGE\nDauer: 18:00 Uhr – 22:30 U
 hrAnzahl Plätze: Max. 8 Personen https://cookcouture.ch/index.php/kochkurs
 e/Ereignis/16-garnituren-leicht-gemacht-kurs-11-12-24
DTSTART:20241211T170000Z
DTEND:20241211T213000Z
LOCATION:Studio (Viaduktstrasse 89\, Bogen B\, CH-8005 Zürich-Hardbrücke)
SUMMARY:Garnituren leicht gemacht/Kurs (11.12.24)
URL:https://cookcouture.ch/index.php/kochkurse/Ereignis/16-garnituren-leich
 t-gemacht-kurs-11-12-24
END:VEVENT
END:VCALENDAR
