BEGIN:VCALENDAR
VERSION:2.0
PRODID:-//https://cookcouture.ch///NONSGML kigkonsult.se iCalcreator 2.10.15//
METHOD:PUBLISH
BEGIN:VEVENT
UID:20260421T113742CEST-8814dfT38T@https://cookcouture.ch/
DTSTAMP:20260421T093742Z
DESCRIPTION:Im kleinen Kreis kulinarisch ins neue Jahr rutschen.\nEin persö
 nlicher Abend soll es werden\, fast wie in Deinem Wohnzimmer.\nDamit es au
 ch wirklich eine richtige Sause gibt\, ist das Motto «Superhelden». Sei da
 bei\, wenn die Helden Silvester feiern und um Mitternacht den Vulkan zünde
 n. Sei dein Kindheitsheld\, ob Superman\, Zoro\, Wonder Woman oder Batman.
  Eine Heldin oder ein Held musst du sein!Gestartet wird mit der Austern-Ja
 gd\, dazu was Prickelndes zum Einläuten. Am Tisch wird Heldenfutter servie
 rt\, natürlich in gewohnter Meta-Manier. Also in mehreren Gängen.Dazu gibt
  es vier verschiedene edle Zaubertropfen im Glas\, passend zum Futter. Und
  natürlich sind wir dann alle ready\, um gemeinsam ins 2023 zu fliegen.Na\
 , bist du auch ein kleiner Superheld? Hungrig und durstig? Mutig und genug
  lustig?Dann lass uns die neue Welt fürs 2023 zusammen erobern.\nCHF 310.-
  / PERSON MIT WEIN\nCHF 277.- / PERSON OHNE WEIN\nALL-IN-PACKAGE\nDauer: 1
 9:00 Uhr – 01:00 UhrAnzahl Plätze: Max. 18 Personen https://cookcouture.ch
 /index.php/events/Ereignis/9-silvesterzauber-31-12-24
DTSTART:20241231T180000Z
DTEND:20250101T000000Z
LOCATION:Studio (Viaduktstrasse 89\, Bogen B\, CH-8005 Zürich-Hardbrücke)
SUMMARY:Silvesterzauber (31.12.24)
URL:https://cookcouture.ch/index.php/events/Ereignis/9-silvesterzauber-31-1
 2-24
END:VEVENT
END:VCALENDAR
